BEGIN:VCALENDAR
VERSION:2.0
PRODID:-//Understanding Anxiety - ECPv5.2.0//NONSGML v1.0//EN
CALSCALE:GREGORIAN
METHOD:PUBLISH
X-WR-CALNAME:Understanding Anxiety
X-ORIGINAL-URL:http://understandinganxiety.wayahead.org.au
X-WR-CALDESC:Events for Understanding Anxiety
BEGIN:VTIMEZONE
TZID:Australia/Sydney
BEGIN:STANDARD
TZOFFSETFROM:+1100
TZOFFSETTO:+1000
TZNAME:AEST
DTSTART:20220402T160000
END:STANDARD
BEGIN:DAYLIGHT
TZOFFSETFROM:+1000
TZOFFSETTO:+1100
TZNAME:AEDT
DTSTART:20221001T160000
END:DAYLIGHT
END:VTIMEZONE
BEGIN:VEVENT
DTSTART;TZID=Australia/Sydney:20220122T140000
DTEND;TZID=Australia/Sydney:20220122T170000
DTSTAMP:20210301T042050
CREATED:20200904T065650Z
LAST-MODIFIED:20210210T002743Z
UID:15541-1642860000-1642870800@understandinganxiety.wayahead.org.au
SUMMARY:Women's Online Anxiety Support
DESCRIPTION:Join Laeonie and Vanessa and the member’s of the Women’s Online Anxiety Support on the 4th Saturday of the month at 2pm
URL:http://understandinganxiety.wayahead.org.au/event/womens-online-anxiety-support/2022-01-22/
END:VEVENT
END:VCALENDAR