BEGIN:VCALENDAR
VERSION:2.0
PRODID:-//Understanding Anxiety - ECPv5.2.0//NONSGML v1.0//EN
CALSCALE:GREGORIAN
METHOD:PUBLISH
X-WR-CALNAME:Understanding Anxiety
X-ORIGINAL-URL:http://understandinganxiety.wayahead.org.au
X-WR-CALDESC:Events for Understanding Anxiety
BEGIN:VTIMEZONE
TZID:UTC
BEGIN:STANDARD
TZOFFSETFROM:+0000
TZOFFSETTO:+0000
TZNAME:UTC
DTSTART:20210101T000000
END:STANDARD
TZID:Australia/Sydney
BEGIN:STANDARD
TZOFFSETFROM:+1100
TZOFFSETTO:+1000
TZNAME:AEST
DTSTART:20210403T160000
END:STANDARD
BEGIN:DAYLIGHT
TZOFFSETFROM:+1000
TZOFFSETTO:+1100
TZNAME:AEDT
DTSTART:20211002T160000
END:DAYLIGHT
END:VTIMEZONE
BEGIN:VEVENT
DTSTART;TZID=UTC:20210201T150000
DTEND;TZID=UTC:20210201T170000
DTSTAMP:20210224T210946
CREATED:20160201T185408Z
LAST-MODIFIED:20160201T185408Z
UID:12453-1612191600-1612198800@understandinganxiety.wayahead.org.au
SUMMARY:Bankstown Anxiety Support Group
DESCRIPTION:3:00 pm – 5:00 pm
URL:http://understandinganxiety.wayahead.org.au/event/bankstown-anxiety-support-group/2021-02-01/
LOCATION:Bankstown Library\, 80 Rickard Rd\, Bankstown\, New South Wales\, 2200 \, Australia
CATEGORIES:Anxiety Support Group
GEO:-33.9149105;151.0348546
X-APPLE-STRUCTURED-LOCATION;VALUE=URI;X-ADDRESS=Bankstown Library 80 Rickard Rd Bankstown New South Wales 2200  Australia;X-APPLE-RADIUS=500;X-TITLE=80 Rickard Rd:geo:151.0348546,-33.9149105
END:VEVENT
BEGIN:VEVENT
DTSTART;TZID=Australia/Sydney:20210201T183000
DTEND;TZID=Australia/Sydney:20210201T203000
DTSTAMP:20210224T210946
CREATED:20180523T014249Z
LAST-MODIFIED:20180523T014249Z
UID:12454-1612204200-1612211400@understandinganxiety.wayahead.org.au
SUMMARY:Camden Anxiety Support Group
DESCRIPTION:Join WayAhead’s facilitators Olga and Tara and the members of the Support Group at the Camden Uniting Church\, 20 John Street\, Camden on the 1st Monday of every month at 6.30pm.
URL:http://understandinganxiety.wayahead.org.au/event/camden-anxiety-support-group/2021-02-01/
LOCATION:Camden Uniting Church\, 20 John Street\, Camden\, NSW\, 2570\, Australia
GEO:-34.0522525;150.6947514
X-APPLE-STRUCTURED-LOCATION;VALUE=URI;X-ADDRESS=Camden Uniting Church 20 John Street Camden NSW 2570 Australia;X-APPLE-RADIUS=500;X-TITLE=20 John Street:geo:150.6947514,-34.0522525
END:VEVENT
BEGIN:VEVENT
DTSTART;TZID=Australia/Sydney:20210202T100000
DTEND;TZID=Australia/Sydney:20210202T120000
DTSTAMP:20210224T210946
CREATED:20190404T014649Z
LAST-MODIFIED:20190404T014649Z
UID:15472-1612260000-1612267200@understandinganxiety.wayahead.org.au
SUMMARY:Woolloomooloo Ozanam Support Group
DESCRIPTION:Join facilitators Jenna and Rachel and the members of the Ozanam Support Group on the 1st and 3rd Tuesday of the month at 10am at Ozanam Learning Centre\, 99 Forbes St\, Woolloomooloo
URL:http://understandinganxiety.wayahead.org.au/event/woolloomooloo-ozanam-support-group/2021-02-02/
LOCATION:Ozanam Learning Centre\, 99 Forbes St\, Woolloomooloo\, New South Wales\, 2011\, Australia
GEO:-33.8733147;151.2192272
X-APPLE-STRUCTURED-LOCATION;VALUE=URI;X-ADDRESS=Ozanam Learning Centre 99 Forbes St Woolloomooloo New South Wales 2011 Australia;X-APPLE-RADIUS=500;X-TITLE=99 Forbes St:geo:151.2192272,-33.8733147
END:VEVENT
BEGIN:VEVENT
DTSTART;TZID=Australia/Sydney:20210202T180000
DTEND;TZID=Australia/Sydney:20210202T200000
DTSTAMP:20210224T210946
CREATED:20171006T010551Z
LAST-MODIFIED:20201102T023727Z
UID:12456-1612288800-1612296000@understandinganxiety.wayahead.org.au
SUMMARY:Wollongong Anxiety Support Group
DESCRIPTION:Join WayAhead facilitator Petra and members of the Wollongong Support Group on the 1st Tuesday of the month at 6.00pm.
URL:http://understandinganxiety.wayahead.org.au/event/wollongong-anxiety-support-group/2021-02-02/
LOCATION:Wollongong Tennis Club\, 37 Foley Street\, Gwynneville\, NSW\, 2500\, Australia
GEO:-34.4186249;150.8875567
X-APPLE-STRUCTURED-LOCATION;VALUE=URI;X-ADDRESS=Wollongong Tennis Club 37 Foley Street Gwynneville NSW 2500 Australia;X-APPLE-RADIUS=500;X-TITLE=37 Foley Street:geo:150.8875567,-34.4186249
END:VEVENT
BEGIN:VEVENT
DTSTART;TZID=Australia/Sydney:20210202T183000
DTEND;TZID=Australia/Sydney:20210202T203000
DTSTAMP:20210224T210946
CREATED:20160706T032320Z
LAST-MODIFIED:20201006T233905Z
UID:12455-1612290600-1612297800@understandinganxiety.wayahead.org.au
SUMMARY:Epping Anxiety Support Group
DESCRIPTION:Join WayAhead’s facilitators Annie\, Kathy\, Paul and the members of Support Group at Epping Community Centre on the 1st Tuesday of every month.
URL:http://understandinganxiety.wayahead.org.au/event/epping-anxiety-support-group/2021-02-02/
LOCATION:Epping Community Centre\, 9 Oxford St\, Epping\, New South Wales\, 2121\, Australia
CATEGORIES:Anxiety Support Group
GEO:-33.7716048;151.0824825
X-APPLE-STRUCTURED-LOCATION;VALUE=URI;X-ADDRESS=Epping Community Centre 9 Oxford St Epping New South Wales 2121 Australia;X-APPLE-RADIUS=500;X-TITLE=9 Oxford St:geo:151.0824825,-33.7716048
END:VEVENT
BEGIN:VEVENT
DTSTART;TZID=Australia/Sydney:20210203T100000
DTEND;TZID=Australia/Sydney:20210203T120000
DTSTAMP:20210224T210946
CREATED:20180619T045715Z
LAST-MODIFIED:20180619T045715Z
UID:12459-1612346400-1612353600@understandinganxiety.wayahead.org.au
SUMMARY:Jesmond Anxiety Support Group
DESCRIPTION:Join WayAhead’s facilitators Gwynne and Kate and the members of the Support Group at the Jesmond Neighbourhood Centre on the 1st Wednesday of every month at 10am.
URL:http://understandinganxiety.wayahead.org.au/event/jesmond-anxiety-support-group/2021-02-03/
LOCATION:Jesmond Neighbourhood Centre\, 44 Mordue Parade\, Jesmond\, New South Wales\, 2299\, Australia
GEO:-32.9002372;151.6898055
X-APPLE-STRUCTURED-LOCATION;VALUE=URI;X-ADDRESS=Jesmond Neighbourhood Centre 44 Mordue Parade Jesmond New South Wales 2299 Australia;X-APPLE-RADIUS=500;X-TITLE=44 Mordue Parade:geo:151.6898055,-32.9002372
END:VEVENT
BEGIN:VEVENT
DTSTART;TZID=Australia/Sydney:20210203T100000
DTEND;TZID=Australia/Sydney:20210203T110000
DTSTAMP:20210224T210946
CREATED:20181220T001343Z
LAST-MODIFIED:20181220T001343Z
UID:14565-1612346400-1612350000@understandinganxiety.wayahead.org.au
SUMMARY:Ashfield Support Group
DESCRIPTION:Join Rachel and the members of the Ashfield Support Group on the 1st Wednesday of the month at 10am
URL:http://understandinganxiety.wayahead.org.au/event/ashfield-support-group/2021-02-03/
LOCATION:Exodus Foundation\, 180 Liverpool Road\, Ashfield\, NSW\, 2131\, Australia
GEO:-33.8904447;151.1271229
X-APPLE-STRUCTURED-LOCATION;VALUE=URI;X-ADDRESS=Exodus Foundation 180 Liverpool Road Ashfield NSW 2131 Australia;X-APPLE-RADIUS=500;X-TITLE=180 Liverpool Road:geo:151.1271229,-33.8904447
END:VEVENT
BEGIN:VEVENT
DTSTART;TZID=Australia/Sydney:20210203T180000
DTEND;TZID=Australia/Sydney:20210203T200000
DTSTAMP:20210224T210946
CREATED:20200904T055702Z
LAST-MODIFIED:20201014T235941Z
UID:13939-1612375200-1612382400@understandinganxiety.wayahead.org.au
SUMMARY:Collective Purpose Online Anxiety Support Group
DESCRIPTION:Join Paul and Lexie and the members of the Collective Purpose Online Anxiety Support Group every first and third Wednesday at 6pm
URL:http://understandinganxiety.wayahead.org.au/event/collective-purpose-online-anxiety-support-group/2021-02-03/
LOCATION:New South Wales
END:VEVENT
BEGIN:VEVENT
DTSTART;TZID=Australia/Sydney:20210206T093000
DTEND;TZID=Australia/Sydney:20210206T113000
DTSTAMP:20210224T210946
CREATED:20160203T051601Z
LAST-MODIFIED:20201102T022051Z
UID:12450-1612603800-1612611000@understandinganxiety.wayahead.org.au
SUMMARY:Marrickville Support Group
DESCRIPTION:Join WayAhead’s facilitators Andy and Cate and the members of the Support Group at the Addison Road Centre on the 1st Saturday of every month at 9.30am.
URL:http://understandinganxiety.wayahead.org.au/event/marrickville-support-group/2021-02-06/
LOCATION:Addison Road Centre\, Hut 1\, 142 Addison Rd\, Marrickville\, New South Wales\, 2204\, Australia
CATEGORIES:Anxiety Support Group
GEO:-33.9021618;151.1626115
X-APPLE-STRUCTURED-LOCATION;VALUE=URI;X-ADDRESS=Addison Road Centre Hut 1 142 Addison Rd Marrickville New South Wales 2204 Australia;X-APPLE-RADIUS=500;X-TITLE=Hut 1\, 142 Addison Rd:geo:151.1626115,-33.9021618
END:VEVENT
BEGIN:VEVENT
DTSTART;TZID=Australia/Sydney:20210206T150000
DTEND;TZID=Australia/Sydney:20210206T170000
DTSTAMP:20210224T210946
CREATED:20170509T034532Z
LAST-MODIFIED:20200909T000910Z
UID:12447-1612623600-1612630800@understandinganxiety.wayahead.org.au
SUMMARY:Glebe Anxiety Support Group
DESCRIPTION:Join facilitators Lexie and Paul and the members of the Glebe Support Group at The Glebe Town Hall on the 1st Saturday of the month at 3pm
URL:http://understandinganxiety.wayahead.org.au/event/glebe-anxiety-support-group/2021-02-06/
LOCATION:Glebe Town Hall\, 160 St Johns Rd\, Glebe\, New South Wales\, 2037\, Australia
CATEGORIES:Anxiety Support Group
GEO:-33.878038;151.185016
X-APPLE-STRUCTURED-LOCATION;VALUE=URI;X-ADDRESS=Glebe Town Hall 160 St Johns Rd Glebe New South Wales 2037 Australia;X-APPLE-RADIUS=500;X-TITLE=160 St Johns Rd:geo:151.185016,-33.878038
END:VEVENT
BEGIN:VEVENT
DTSTART;TZID=Australia/Sydney:20210209T183000
DTEND;TZID=Australia/Sydney:20210209T183000
DTSTAMP:20210224T210946
CREATED:20200903T073325Z
LAST-MODIFIED:20200925T043939Z
UID:13878-1612895400-1612895400@understandinganxiety.wayahead.org.au
SUMMARY:Campbelltown Anxiety Support Group
DESCRIPTION:Join John and the members of the Campbelltown Anxiety Support Group on the 2nd Tuesday of the month at 6.30pm
URL:http://understandinganxiety.wayahead.org.au/event/campbelltown-anxiety-support-group/2021-02-09/
LOCATION:Campelltown Uniting Church\, 8 Allman St\, Campbelltown\, NSW\, 2560\, Australia
GEO:-34.0706029;150.8143988
X-APPLE-STRUCTURED-LOCATION;VALUE=URI;X-ADDRESS=Campelltown Uniting Church 8 Allman St Campbelltown NSW 2560 Australia;X-APPLE-RADIUS=500;X-TITLE=8 Allman St:geo:150.8143988,-34.0706029
END:VEVENT
BEGIN:VEVENT
DTSTART;TZID=Australia/Sydney:20210209T190000
DTEND;TZID=Australia/Sydney:20210209T210000
DTSTAMP:20210224T210946
CREATED:20160207T230714Z
LAST-MODIFIED:20201006T223516Z
UID:12469-1612897200-1612904400@understandinganxiety.wayahead.org.au
SUMMARY:Chatswood OCD Support Group
DESCRIPTION:Join WayAhead’s facilitators Jess and the members of the Support Group at the Dougherty Community Centre on the 2nd Tuesday of every month at 7pm.
URL:http://understandinganxiety.wayahead.org.au/event/chatswood-ocd-support-group/2021-02-09/
LOCATION:Dougherty Community Centre\, Hideaway Room\, 7 Victor St\, Chatswood\, New South Wales\, 2067\, Australia
CATEGORIES:OCD Support Group
GEO:-33.799092;151.182814
X-APPLE-STRUCTURED-LOCATION;VALUE=URI;X-ADDRESS=Dougherty Community Centre Hideaway Room 7 Victor St Chatswood New South Wales 2067 Australia;X-APPLE-RADIUS=500;X-TITLE=Hideaway Room\, 7 Victor St:geo:151.182814,-33.799092
END:VEVENT
BEGIN:VEVENT
DTSTART;TZID=Australia/Sydney:20210213T090000
DTEND;TZID=Australia/Sydney:20210213T110000
DTSTAMP:20210224T210946
CREATED:20160207T230230Z
LAST-MODIFIED:20200819T032825Z
UID:13705-1613206800-1613214000@understandinganxiety.wayahead.org.au
SUMMARY:Wyoming Support Group
DESCRIPTION:The Wyoming anxiety support group meets on the 2nd Saturday of each month\nClick here to see all upcoming occurrences of this event
URL:http://understandinganxiety.wayahead.org.au/event/wyoming-support-group/2021-02-13/
LOCATION:Wyoming Community Centre\, 147 Maidens Brush Rd\, Wyoming\, New South Wales\, 2250\, Australia
CATEGORIES:Anxiety Support Group
GEO:-33.4098123;151.3660688
X-APPLE-STRUCTURED-LOCATION;VALUE=URI;X-ADDRESS=Wyoming Community Centre 147 Maidens Brush Rd Wyoming New South Wales 2250 Australia;X-APPLE-RADIUS=500;X-TITLE=147 Maidens Brush Rd:geo:151.3660688,-33.4098123
END:VEVENT
BEGIN:VEVENT
DTSTART;TZID=Australia/Sydney:20210214T150000
DTEND;TZID=Australia/Sydney:20210214T170000
DTSTAMP:20210224T210946
CREATED:20200904T064320Z
LAST-MODIFIED:20200907T031552Z
UID:14049-1613314800-1613322000@understandinganxiety.wayahead.org.au
SUMMARY:Newtown/Glebe Online Anxiety Support Group
DESCRIPTION:Join Paul and the member of the Newtown/Glebe Online Anxiety Support Group every Sunday at 3pm
URL:http://understandinganxiety.wayahead.org.au/event/newtown-glebe-online-anxiety-support-group/2021-02-14/
LOCATION:New South Wales
END:VEVENT
BEGIN:VEVENT
DTSTART;TZID=Australia/Sydney:20210216T100000
DTEND;TZID=Australia/Sydney:20210216T120000
DTSTAMP:20210224T210946
CREATED:20190404T014649Z
LAST-MODIFIED:20190404T014649Z
UID:15473-1613469600-1613476800@understandinganxiety.wayahead.org.au
SUMMARY:Woolloomooloo Ozanam Support Group
DESCRIPTION:Join facilitators Jenna and Rachel and the members of the Ozanam Support Group on the 1st and 3rd Tuesday of the month at 10am at Ozanam Learning Centre\, 99 Forbes St\, Woolloomooloo
URL:http://understandinganxiety.wayahead.org.au/event/woolloomooloo-ozanam-support-group/2021-02-16/
LOCATION:Ozanam Learning Centre\, 99 Forbes St\, Woolloomooloo\, New South Wales\, 2011\, Australia
GEO:-33.8733147;151.2192272
X-APPLE-STRUCTURED-LOCATION;VALUE=URI;X-ADDRESS=Ozanam Learning Centre 99 Forbes St Woolloomooloo New South Wales 2011 Australia;X-APPLE-RADIUS=500;X-TITLE=99 Forbes St:geo:151.2192272,-33.8733147
END:VEVENT
BEGIN:VEVENT
DTSTART;TZID=Australia/Sydney:20210216T183000
DTEND;TZID=Australia/Sydney:20210216T203000
DTSTAMP:20210224T210946
CREATED:20201104T053943Z
LAST-MODIFIED:20201104T054132Z
UID:14962-1613500200-1613507400@understandinganxiety.wayahead.org.au
SUMMARY:Hurstville Support Group
DESCRIPTION:Join Jasmin and Rachel and members of the Hurstville Anxiety Support Group on the 3rd Tuesday of the month at 6.30pm at Club Central Hurstville
URL:http://understandinganxiety.wayahead.org.au/event/hurstville-anxiety-support-group/2021-02-16/
LOCATION:Club Central Hurstville\, 2 Crofts Ave\, Hurstville\, New South Wales\, 2217\, Australia
GEO:-33.9662081;151.1034615
X-APPLE-STRUCTURED-LOCATION;VALUE=URI;X-ADDRESS=Club Central Hurstville 2 Crofts Ave Hurstville New South Wales 2217 Australia;X-APPLE-RADIUS=500;X-TITLE=2 Crofts Ave:geo:151.1034615,-33.9662081
END:VEVENT
BEGIN:VEVENT
DTSTART;TZID=Australia/Sydney:20210217T180000
DTEND;TZID=Australia/Sydney:20210217T200000
DTSTAMP:20210224T210946
CREATED:20200904T055702Z
LAST-MODIFIED:20200904T055702Z
UID:14607-1613584800-1613592000@understandinganxiety.wayahead.org.au
SUMMARY:Collective Purpose Online Anxiety Support Group
DESCRIPTION:Join Paul and Lexie and the members of the Collective Purpose Online Anxiety Support Group every first and third Wednesday at 6pm
URL:http://understandinganxiety.wayahead.org.au/event/collective-purpose-online-anxiety-support-group/2021-02-17/
LOCATION:New South Wales
END:VEVENT
BEGIN:VEVENT
DTSTART;TZID=Australia/Sydney:20210217T180000
DTEND;TZID=Australia/Sydney:20210217T200000
DTSTAMP:20210224T210946
CREATED:20200904T063300Z
LAST-MODIFIED:20210203T031814Z
UID:13966-1613584800-1613592000@understandinganxiety.wayahead.org.au
SUMMARY:Mittagong Online Anxiety Support Group
DESCRIPTION:Join Simon and Zoe and the members of the Mittagong Online Anxiety Support Group on the 1st and 3rd Wednesday of the month at 6pm
URL:http://understandinganxiety.wayahead.org.au/event/mittagong-online-anxiety-support-group/2021-02-17/
LOCATION:New South Wales
END:VEVENT
BEGIN:VEVENT
DTSTART;TZID=Australia/Sydney:20210218T103000
DTEND;TZID=Australia/Sydney:20210218T123000
DTSTAMP:20210224T210946
CREATED:20190523T050520Z
LAST-MODIFIED:20190523T050520Z
UID:12510-1613644200-1613651400@understandinganxiety.wayahead.org.au
SUMMARY:Campbelltown Nagel Centre Anxiety Support Group
DESCRIPTION:Join facilitator Georgia and members of the Campbelltown Nagel Centre\, fortnightly\, Thursday at 10.30am at the Nagel Centre\, 22 Iolanthe St\, Campbelltown.
URL:http://understandinganxiety.wayahead.org.au/event/campbelltown-nagel-centre-anxiety-support-group/2021-02-18/
LOCATION:Nagel Centre\, 22 Iolanthe St\, Campbelltown\, NSW\, 2560\, Australia
GEO:-34.0627672;150.8194894
X-APPLE-STRUCTURED-LOCATION;VALUE=URI;X-ADDRESS=Nagel Centre 22 Iolanthe St Campbelltown NSW 2560 Australia;X-APPLE-RADIUS=500;X-TITLE=22 Iolanthe St:geo:150.8194894,-34.0627672
END:VEVENT
BEGIN:VEVENT
DTSTART;TZID=Australia/Sydney:20210218T103000
DTEND;TZID=Australia/Sydney:20210218T123000
DTSTAMP:20210224T210946
CREATED:20200904T064037Z
LAST-MODIFIED:20200907T033800Z
UID:14015-1613644200-1613651400@understandinganxiety.wayahead.org.au
SUMMARY:Campbelltown Nagel Online Anxiety Support Group
DESCRIPTION:Join Georgia and the member of the Campbelltown Nagel Online Anxiety Support Group every second Thursday at 10.30am
URL:http://understandinganxiety.wayahead.org.au/event/campbelltown-nagel-online-anxiety-support-group/2021-02-18/
LOCATION:New South Wales
END:VEVENT
BEGIN:VEVENT
DTSTART;TZID=Australia/Sydney:20210218T180000
DTEND;TZID=Australia/Sydney:20210218T200000
DTSTAMP:20210224T210946
CREATED:20160203T041159Z
LAST-MODIFIED:20160203T041159Z
UID:12509-1613671200-1613678400@understandinganxiety.wayahead.org.au
SUMMARY:Albury Anxiety Support Group
DESCRIPTION:Join WayAhead’s facilitators Nicole and Marisa and the members of the Support Group at Age Concern on the 3rd Thursday of every month at 6.00pm
URL:http://understandinganxiety.wayahead.org.au/event/albury-anxiety-support-group/2021-02-18/
LOCATION:Age Concern\, 432 Townsend St\, Albury\, New South Wales\, 2640\, Australia
CATEGORIES:Anxiety Support Group
ATTACH;FMTTYPE=image/jpeg:http://understandinganxiety.wayahead.org.au/wp-content/uploads/2016/02/AlburyAnxietyForum-8639.jpg
GEO:-36.0840326;146.9129668
X-APPLE-STRUCTURED-LOCATION;VALUE=URI;X-ADDRESS=Age Concern 432 Townsend St Albury New South Wales 2640 Australia;X-APPLE-RADIUS=500;X-TITLE=432 Townsend St:geo:146.9129668,-36.0840326
END:VEVENT
BEGIN:VEVENT
DTSTART;TZID=Australia/Sydney:20210220T113000
DTEND;TZID=Australia/Sydney:20210220T133000
DTSTAMP:20210224T210946
CREATED:20160203T053025Z
LAST-MODIFIED:20160203T053025Z
UID:12511-1613820600-1613827800@understandinganxiety.wayahead.org.au
SUMMARY:Newtown Support Group
DESCRIPTION:Join WayAhead’s facilitator  Katie and the members of the Support Group at the Newtown Neighbourhood Centre on the 3rd Saturday of every month at 11.30am.
URL:http://understandinganxiety.wayahead.org.au/event/newtown-support-group/2021-02-20/
LOCATION:Newtown Neighbourhood Centre\, 1 Bedford St\, Newtown\, New South Wales\, 2042\, Australia
CATEGORIES:Anxiety Support Group
GEO:-33.8973032;151.1784774
X-APPLE-STRUCTURED-LOCATION;VALUE=URI;X-ADDRESS=Newtown Neighbourhood Centre 1 Bedford St Newtown New South Wales 2042 Australia;X-APPLE-RADIUS=500;X-TITLE=1 Bedford St:geo:151.1784774,-33.8973032
END:VEVENT
BEGIN:VEVENT
DTSTART;TZID=Australia/Sydney:20210220T140000
DTEND;TZID=Australia/Sydney:20210220T160000
DTSTAMP:20210224T210946
CREATED:20160207T223320Z
LAST-MODIFIED:20200724T061318Z
UID:12514-1613829600-1613836800@understandinganxiety.wayahead.org.au
SUMMARY:Queanbeyan Support Group
DESCRIPTION:Join WayAhead’s facilitator Emaly & Simone and the members of the Support Group at the Letchworth Community Centre on the 3rd Saturday of every month at 2pm.
URL:http://understandinganxiety.wayahead.org.au/event/queanbeyan-support-group-2020-03-21/2021-02-20/
LOCATION:Letchworth Community Centre\, 28 Miller Street\, Queanbeyan West\, New South Wales\, 2620\, Australia
CATEGORIES:Anxiety Support Group
GEO:-35.3703585;149.2327979
X-APPLE-STRUCTURED-LOCATION;VALUE=URI;X-ADDRESS=Letchworth Community Centre 28 Miller Street Queanbeyan West New South Wales 2620 Australia;X-APPLE-RADIUS=500;X-TITLE=28 Miller Street:geo:149.2327979,-35.3703585
END:VEVENT
BEGIN:VEVENT
DTSTART;TZID=Australia/Sydney:20210220T150000
DTEND;TZID=Australia/Sydney:20210220T170000
DTSTAMP:20210224T210946
CREATED:20160207T225358Z
LAST-MODIFIED:20210208T051224Z
UID:12512-1613833200-1613840400@understandinganxiety.wayahead.org.au
SUMMARY:Sutherland Support Group
DESCRIPTION:Join WayAhead’s facilitators John and Sonia and the members of the Support Group at the Club on East on the 3nd Saturday of every month at 3pm.
URL:http://understandinganxiety.wayahead.org.au/event/sutherland-support-group/2021-02-20/
LOCATION:Club on East\, 7 East Parade\, Sutherland\, New South Wales\, 2232\, Australia
CATEGORIES:Anxiety Support Group
GEO:-34.0299394;151.0577342
X-APPLE-STRUCTURED-LOCATION;VALUE=URI;X-ADDRESS=Club on East 7 East Parade Sutherland New South Wales 2232 Australia;X-APPLE-RADIUS=500;X-TITLE=7 East Parade:geo:151.0577342,-34.0299394
END:VEVENT
BEGIN:VEVENT
DTSTART;TZID=Australia/Sydney:20210225T180000
DTEND;TZID=Australia/Sydney:20210225T200000
DTSTAMP:20210224T210946
CREATED:20170303T011941Z
LAST-MODIFIED:20210201T023515Z
UID:12517-1614276000-1614283200@understandinganxiety.wayahead.org.au
SUMMARY:Miranda Anxiety Support Group
DESCRIPTION:Join WayAhead’s facilitators Ashton and Tom and members of the Support Group at the Miranda Diggers RSL\, level 3\, Kenna Room\, on the 4th Thursday of every month at 6pm
URL:http://understandinganxiety.wayahead.org.au/event/miranda-anxiety-support-group/2021-02-25/
LOCATION:Miranda Diggers RSL\, 615 Kingsway \, Miranda\, NSW\, 2228\, Australia
GEO:-34.0336154;151.0997722
X-APPLE-STRUCTURED-LOCATION;VALUE=URI;X-ADDRESS=Miranda Diggers RSL 615 Kingsway  Miranda NSW 2228 Australia;X-APPLE-RADIUS=500;X-TITLE=615 Kingsway:geo:151.0997722,-34.0336154
END:VEVENT
BEGIN:VEVENT
DTSTART;TZID=Australia/Sydney:20210227T140000
DTEND;TZID=Australia/Sydney:20210227T170000
DTSTAMP:20210224T210946
CREATED:20200904T065650Z
LAST-MODIFIED:20210210T002728Z
UID:14087-1614434400-1614445200@understandinganxiety.wayahead.org.au
SUMMARY:Women's Online Anxiety Support
DESCRIPTION:Join Laeonie and Vanessa and the member’s of the Women’s Online Anxiety Support on the 4th Saturday of the month at 2pm
URL:http://understandinganxiety.wayahead.org.au/event/womens-online-anxiety-support/2021-02-27/
LOCATION:New South Wales
END:VEVENT
END:VCALENDAR